BEGIN:VCALENDAR
VERSION:2.0
PRODID:-//Männergesangverein Frohsinn Renningen - ECPv6.15.20//NONSGML v1.0//EN
CALSCALE:GREGORIAN
METHOD:PUBLISH
X-ORIGINAL-URL:https://frohsinnrenningen.de
X-WR-CALDESC:Veranstaltungen für Männergesangverein Frohsinn Renningen
REFRESH-INTERVAL;VALUE=DURATION:PT1H
X-Robots-Tag:noindex
X-PUBLISHED-TTL:PT1H
BEGIN:VTIMEZONE
TZID:Europe/Berlin
BEGIN:DAYLIGHT
TZOFFSETFROM:+0100
TZOFFSETTO:+0200
TZNAME:CEST
DTSTART:20230326T010000
END:DAYLIGHT
BEGIN:STANDARD
TZOFFSETFROM:+0200
TZOFFSETTO:+0100
TZNAME:CET
DTSTART:20231029T010000
END:STANDARD
BEGIN:DAYLIGHT
TZOFFSETFROM:+0100
TZOFFSETTO:+0200
TZNAME:CEST
DTSTART:20240331T010000
END:DAYLIGHT
BEGIN:STANDARD
TZOFFSETFROM:+0200
TZOFFSETTO:+0100
TZNAME:CET
DTSTART:20241027T010000
END:STANDARD
BEGIN:DAYLIGHT
TZOFFSETFROM:+0100
TZOFFSETTO:+0200
TZNAME:CEST
DTSTART:20250330T010000
END:DAYLIGHT
BEGIN:STANDARD
TZOFFSETFROM:+0200
TZOFFSETTO:+0100
TZNAME:CET
DTSTART:20251026T010000
END:STANDARD
END:VTIMEZONE
BEGIN:VEVENT
DTSTART;TZID=Europe/Berlin:20240308T180000
DTEND;TZID=Europe/Berlin:20240308T210000
DTSTAMP:20260426T040247
CREATED:20240112T155437Z
LAST-MODIFIED:20240112T155513Z
UID:1139-1709920800-1709931600@frohsinnrenningen.de
SUMMARY:Jahreshauptversammlung
DESCRIPTION:Die Mitglieder des MGV Frohsinn sind herzlich zur Jahreshauptversammlung in 2024 eingeladen. Beginn ist um 18Uhr. \nAuf dem Programm stehen neben den Berichten der Vorstandschaft\, einem Ausblick in die Zukunft natürlich auch Neuwahlen auf dem Programm. Wir freuen uns immer über viele Kandidaten für die Ämter. Und ein Verein lebt vom Mitmachen\, In einer Pause wird auch für das leibliche Wohl der Anwesenden gesorgt werden.
URL:https://frohsinnrenningen.de/termin/jahreshauptversammlung-2/
LOCATION:Vereinsheim\, Hinterriedstraße 37\, Renningen\, 71272
CATEGORIES:Internes,male:vox,Männerchor,Veranstaltungen
ATTACH;FMTTYPE=image/jpeg:https://frohsinnrenningen.de/wp-content/uploads/2022/06/Logo-MGV.jpg
END:VEVENT
END:VCALENDAR